Package: MSstatsQC Version: 2.24.0 Command: /Library/Frameworks/R.framework/Resources/bin/R CMD check --install=check:MSstatsQC.install-out.txt --library=/Library/Frameworks/R.framework/Resources/library --no-vignettes --timings MSstatsQC_2.24.0.tar.gz StartedAt: 2025-02-04 06:57:08 -0500 (Tue, 04 Feb 2025) EndedAt: 2025-02-04 07:06:22 -0500 (Tue, 04 Feb 2025) EllapsedTime: 553.6 seconds RetCode: 0 Status: OK CheckDir: MSstatsQC.Rcheck Warnings: 0