Package: MSstatsQC Version: 2.24.0 Command: /home/biocbuild/bbs-3.20-bioc/R/bin/R CMD INSTALL MSstatsQC StartedAt: 2025-02-03 15:47:27 -0500 (Mon, 03 Feb 2025) EndedAt: 2025-02-03 15:48:10 -0500 (Mon, 03 Feb 2025) EllapsedTime: 43.0 seconds RetCode: 0 Status: OK