Package: MSstatsQC Version: 2.24.0 Command: /home/biocbuild/R/R/bin/R CMD build --keep-empty-dirs --no-resave-data MSstatsQC StartedAt: 2025-02-04 01:16:11 -0000 (Tue, 04 Feb 2025) EndedAt: 2025-02-04 01:17:39 -0000 (Tue, 04 Feb 2025) EllapsedTime: 88.1 seconds RetCode: 0 Status: OK PackageFile: MSstatsQC_2.24.0.tar.gz PackageFileSize: 2.1 MiB