Package: MSstatsQC Version: 2.24.0 Command: /home/biocbuild/R/R/bin/R CMD check --install=check:MSstatsQC.install-out.txt --library=/home/biocbuild/R/R/site-library --no-vignettes --timings MSstatsQC_2.24.0.tar.gz StartedAt: 2025-02-04 09:09:48 -0000 (Tue, 04 Feb 2025) EndedAt: 2025-02-04 09:15:03 -0000 (Tue, 04 Feb 2025) EllapsedTime: 314.5 seconds RetCode: 0 Status: OK CheckDir: MSstatsQC.Rcheck Warnings: 0