Package: MSstatsQC Version: 2.24.0 Command: /home/biocbuild/R/R/bin/R CMD INSTALL MSstatsQC StartedAt: 2025-02-03 21:01:51 -0000 (Mon, 03 Feb 2025) EndedAt: 2025-02-03 21:02:37 -0000 (Mon, 03 Feb 2025) EllapsedTime: 45.8 seconds RetCode: 0 Status: OK