Package: MSstatsQCgui Version: 1.26.0 Command: rm -rf MSstatsQCgui.buildbin-libdir && mkdir MSstatsQCgui.buildbin-libdir && /Users/biocbuild/BBS/utils/build-universal.sh MSstatsQCgui_1.26.0.tar.gz /Library/Frameworks/R.framework/Resources/bin/R MSstatsQCgui.buildbin-libdir StartedAt: 2025-02-05 16:51:08 -0500 (Wed, 05 Feb 2025) EndedAt: 2025-02-05 16:51:53 -0500 (Wed, 05 Feb 2025) EllapsedTime: 44.7 seconds RetCode: 0 Status: OK PackageFile: MSstatsQCgui_1.26.0.tgz PackageFileSize: 85.48 KiB