Package: MSstatsQCgui Version: 1.26.0 Command: /Library/Frameworks/R.framework/Resources/bin/R CMD build --keep-empty-dirs --no-resave-data MSstatsQCgui StartedAt: 2025-02-04 04:16:37 -0500 (Tue, 04 Feb 2025) EndedAt: 2025-02-04 04:17:26 -0500 (Tue, 04 Feb 2025) EllapsedTime: 48.8 seconds RetCode: 0 Status: OK PackageFile: MSstatsQCgui_1.26.0.tar.gz PackageFileSize: 75.37 KiB