Package: MSstatsQCgui Version: 1.26.0 Command: /Library/Frameworks/R.framework/Resources/bin/R CMD INSTALL MSstatsQCgui StartedAt: 2025-02-03 16:59:09 -0500 (Mon, 03 Feb 2025) EndedAt: 2025-02-03 16:59:50 -0500 (Mon, 03 Feb 2025) EllapsedTime: 41.7 seconds RetCode: 0 Status: OK