Package: MSstatsQCgui
Version: 1.26.0
Command: /home/biocbuild/R/R/bin/R CMD build --keep-empty-dirs --no-resave-data MSstatsQCgui
StartedAt: 2024-11-20 02:26:24 -0000 (Wed, 20 Nov 2024)
EndedAt: 2024-11-20 02:27:15 -0000 (Wed, 20 Nov 2024)
EllapsedTime: 51.1 seconds
RetCode: 0
Status: OK
PackageFile: MSstatsQCgui_1.26.0.tar.gz
PackageFileSize: 75.97 <A href="http://en.wikipedia.org/wiki/KiB" target="_blank">KiB</A>