Package: MSstatsQCgui Version: 1.26.0 Command: rm -rf MSstatsQCgui.buildbin-libdir && mkdir MSstatsQCgui.buildbin-libdir && F:\biocbuild\bbs-3.20-bioc\R\bin\R.exe CMD INSTALL --build --library=MSstatsQCgui.buildbin-libdir MSstatsQCgui_1.26.0.tar.gz StartedAt: 2025-02-04 09:01:00 -0500 (Tue, 04 Feb 2025) EndedAt: 2025-02-04 09:01:41 -0500 (Tue, 04 Feb 2025) EllapsedTime: 40.8 seconds RetCode: 0 Status: OK PackageFile: MSstatsQCgui_1.26.0.zip PackageFileSize: 93 KiB