Package: MSstatsQCgui Version: 1.26.0 Command: chmod a+r MSstatsQCgui -R && F:\biocbuild\bbs-3.20-bioc\R\bin\R.exe CMD build --keep-empty-dirs --no-resave-data MSstatsQCgui StartedAt: 2025-02-03 20:39:40 -0500 (Mon, 03 Feb 2025) EndedAt: 2025-02-03 20:40:32 -0500 (Mon, 03 Feb 2025) EllapsedTime: 52.1 seconds RetCode: 0 Status: OK PackageFile: MSstatsQCgui_1.26.0.tar.gz PackageFileSize: 75.41 KiB