Package: MSstatsQCgui Version: 1.26.0 Command: F:\biocbuild\bbs-3.20-bioc\R\bin\R.exe CMD check --no-multiarch --install=check:MSstatsQCgui.install-out.txt --library=F:\biocbuild\bbs-3.20-bioc\R\library --no-vignettes --timings MSstatsQCgui_1.26.0.tar.gz StartedAt: 2025-02-04 04:10:09 -0500 (Tue, 04 Feb 2025) EndedAt: 2025-02-04 04:14:57 -0500 (Tue, 04 Feb 2025) EllapsedTime: 288.8 seconds RetCode: 0 Status: OK CheckDir: MSstatsQCgui.Rcheck Warnings: 0