Package: MSstatsQCgui Version: 1.26.0 Command: F:\biocbuild\bbs-3.20-bioc\R\bin\R.exe CMD INSTALL MSstatsQCgui StartedAt: 2025-02-03 17:07:51 -0500 (Mon, 03 Feb 2025) EndedAt: 2025-02-03 17:08:38 -0500 (Mon, 03 Feb 2025) EllapsedTime: 46.3 seconds RetCode: 0 Status: OK