Package: MSstatsTMT Version: 2.14.1 Command: rm -rf MSstatsTMT.buildbin-libdir && mkdir MSstatsTMT.buildbin-libdir && /Users/biocbuild/BBS/utils/build-universal.sh MSstatsTMT_2.14.1.tar.gz /Library/Frameworks/R.framework/Resources/bin/R MSstatsTMT.buildbin-libdir StartedAt: 2025-02-05 16:51:26 -0500 (Wed, 05 Feb 2025) EndedAt: 2025-02-05 16:51:42 -0500 (Wed, 05 Feb 2025) EllapsedTime: 16.0 seconds RetCode: 0 Status: OK PackageFile: MSstatsTMT_2.14.1.tgz PackageFileSize: 1.948 MiB