Package: MSstatsTMT Version: 2.14.1 Command: /Library/Frameworks/R.framework/Resources/bin/R CMD build --keep-empty-dirs --no-resave-data MSstatsTMT StartedAt: 2025-02-04 04:17:26 -0500 (Tue, 04 Feb 2025) EndedAt: 2025-02-04 04:18:33 -0500 (Tue, 04 Feb 2025) EllapsedTime: 67.0 seconds RetCode: 0 Status: OK PackageFile: MSstatsTMT_2.14.1.tar.gz PackageFileSize: 1.531 MiB