Package: MSstatsTMT Version: 2.14.1 Command: chmod a+r MSstatsTMT -R && F:\biocbuild\bbs-3.20-bioc\R\bin\R.exe CMD build --keep-empty-dirs --no-resave-data MSstatsTMT StartedAt: 2025-02-03 20:40:00 -0500 (Mon, 03 Feb 2025) EndedAt: 2025-02-03 20:41:24 -0500 (Mon, 03 Feb 2025) EllapsedTime: 83.9 seconds RetCode: 0 Status: OK PackageFile: MSstatsTMT_2.14.1.tar.gz PackageFileSize: 1.531 MiB