Package: MSstatsTMT Version: 2.14.1 Command: F:\biocbuild\bbs-3.20-bioc\R\bin\R.exe CMD INSTALL MSstatsTMT StartedAt: 2025-02-03 16:11:49 -0500 (Mon, 03 Feb 2025) EndedAt: 2025-02-03 16:12:38 -0500 (Mon, 03 Feb 2025) EllapsedTime: 49.0 seconds RetCode: 0 Status: OK