Package: MVCClass Version: 1.80.0 Command: rm -rf MVCClass.buildbin-libdir && mkdir MVCClass.buildbin-libdir && /Users/biocbuild/BBS/utils/build-universal.sh MVCClass_1.80.0.tar.gz /Library/Frameworks/R.framework/Resources/bin/R MVCClass.buildbin-libdir StartedAt: 2025-02-01 15:58:20 -0500 (Sat, 01 Feb 2025) EndedAt: 2025-02-01 15:58:25 -0500 (Sat, 01 Feb 2025) EllapsedTime: 5.7 seconds RetCode: 0 Status: OK PackageFile: MVCClass_1.80.0.tgz PackageFileSize: 1.232 MiB