Package: MVCClass Version: 1.80.0 Command: rm -rf MVCClass.buildbin-libdir && mkdir MVCClass.buildbin-libdir && /Users/biocbuild/BBS/utils/build-universal.sh MVCClass_1.80.0.tar.gz /Library/Frameworks/R.framework/Resources/bin/R MVCClass.buildbin-libdir StartedAt: 2025-01-31 13:16:05 -0500 (Fri, 31 Jan 2025) EndedAt: 2025-01-31 13:16:15 -0500 (Fri, 31 Jan 2025) EllapsedTime: 9.7 seconds RetCode: 0 Status: OK PackageFile: MVCClass_1.80.0.tgz PackageFileSize: 1.232 MiB