Package: MVCClass Version: 1.80.0 Command: /Library/Frameworks/R.framework/Resources/bin/R CMD build --keep-empty-dirs --no-resave-data MVCClass StartedAt: 2025-01-30 21:19:06 -0500 (Thu, 30 Jan 2025) EndedAt: 2025-01-30 21:19:31 -0500 (Thu, 30 Jan 2025) EllapsedTime: 24.7 seconds RetCode: 0 Status: OK PackageFile: MVCClass_1.80.0.tar.gz PackageFileSize: 1.031 MiB