Package: MVCClass Version: 1.80.0 Command: /Library/Frameworks/R.framework/Resources/bin/R CMD INSTALL MVCClass StartedAt: 2025-01-30 15:06:44 -0500 (Thu, 30 Jan 2025) EndedAt: 2025-01-30 15:07:03 -0500 (Thu, 30 Jan 2025) EllapsedTime: 18.4 seconds RetCode: 0 Status: OK