Package: MVCClass Version: 1.80.0 Command: /home/biocbuild/R/R/bin/R CMD check --install=check:MVCClass.install-out.txt --library=/home/biocbuild/R/R/site-library --no-vignettes --timings MVCClass_1.80.0.tar.gz StartedAt: 2025-01-31 08:33:59 -0000 (Fri, 31 Jan 2025) EndedAt: 2025-01-31 08:34:19 -0000 (Fri, 31 Jan 2025) EllapsedTime: 20.0 seconds RetCode: 0 Status: OK CheckDir: MVCClass.Rcheck Warnings: 0