Package: MVCClass Version: 1.80.0 Command: /home/biocbuild/R/R/bin/R CMD INSTALL MVCClass StartedAt: 2025-01-30 20:06:01 -0000 (Thu, 30 Jan 2025) EndedAt: 2025-01-30 20:06:22 -0000 (Thu, 30 Jan 2025) EllapsedTime: 20.6 seconds RetCode: 0 Status: OK