Package: MWASTools
Version: 1.30.0
Command: /Library/Frameworks/R.framework/Resources/bin/R CMD INSTALL MWASTools
StartedAt: 2025-02-17 17:23:43 -0500 (Mon, 17 Feb 2025)
EndedAt: 2025-02-17 17:24:20 -0500 (Mon, 17 Feb 2025)
EllapsedTime: 37.1 seconds
RetCode: 0
Status: OK