Package: MWASTools Version: 1.30.0 Command: /Library/Frameworks/R.framework/Resources/bin/R CMD check --install=check:MWASTools.install-out.txt --library=/Library/Frameworks/R.framework/Resources/library --no-vignettes --timings MWASTools_1.30.0.tar.gz StartedAt: 2024-11-09 08:20:00 -0500 (Sat, 09 Nov 2024) EndedAt: 2024-11-09 08:25:02 -0500 (Sat, 09 Nov 2024) EllapsedTime: 303.0 seconds RetCode: 0 Status: OK CheckDir: MWASTools.Rcheck Warnings: 0