Package: MWASTools Version: 1.30.0 Command: rm -rf MWASTools.buildbin-libdir && mkdir MWASTools.buildbin-libdir && /Users/biocbuild/BBS/utils/build-universal.sh MWASTools_1.30.0.tar.gz /Library/Frameworks/R.framework/Resources/bin/R MWASTools.buildbin-libdir StartedAt: 2025-02-04 13:36:02 -0500 (Tue, 04 Feb 2025) EndedAt: 2025-02-04 13:37:44 -0500 (Tue, 04 Feb 2025) EllapsedTime: 102.2 seconds RetCode: 0 Status: OK PackageFile: MWASTools_1.30.0.tgz PackageFileSize: 2.115 MiB