Package: MWASTools Version: 1.30.0 Command: rm -rf MWASTools.buildbin-libdir && mkdir MWASTools.buildbin-libdir && F:\biocbuild\bbs-3.20-bioc\R\bin\R.exe CMD INSTALL --build --library=MWASTools.buildbin-libdir MWASTools_1.30.0.tar.gz StartedAt: 2025-02-04 09:02:34 -0500 (Tue, 04 Feb 2025) EndedAt: 2025-02-04 09:03:18 -0500 (Tue, 04 Feb 2025) EllapsedTime: 44.2 seconds RetCode: 0 Status: OK PackageFile: MWASTools_1.30.0.zip PackageFileSize: 1.565 MiB