Package: MWASTools Version: 1.30.0 Command: chmod a+r MWASTools -R && F:\biocbuild\bbs-3.20-bioc\R\bin\R.exe CMD build --keep-empty-dirs --no-resave-data MWASTools StartedAt: 2025-02-03 20:43:58 -0500 (Mon, 03 Feb 2025) EndedAt: 2025-02-03 20:45:50 -0500 (Mon, 03 Feb 2025) EllapsedTime: 111.5 seconds RetCode: 0 Status: OK PackageFile: MWASTools_1.30.0.tar.gz PackageFileSize: 1.699 MiB