Package: MWASTools Version: 1.30.0 Command: /home/biocbuild/R/R/bin/R CMD build --keep-empty-dirs --no-resave-data MWASTools StartedAt: 2025-02-04 01:19:35 -0000 (Tue, 04 Feb 2025) EndedAt: 2025-02-04 01:20:45 -0000 (Tue, 04 Feb 2025) EllapsedTime: 70.0 seconds RetCode: 0 Status: OK PackageFile: MWASTools_1.30.0.tar.gz PackageFileSize: 1.704 MiB