Package: MWASTools Version: 1.30.0 Command: /home/biocbuild/R/R/bin/R CMD check --install=check:MWASTools.install-out.txt --library=/home/biocbuild/R/R/site-library --no-vignettes --timings MWASTools_1.30.0.tar.gz StartedAt: 2025-02-04 09:15:47 -0000 (Tue, 04 Feb 2025) EndedAt: 2025-02-04 09:20:15 -0000 (Tue, 04 Feb 2025) EllapsedTime: 268.6 seconds RetCode: 0 Status: OK CheckDir: MWASTools.Rcheck Warnings: 0