Package: Maaslin2
Version: 1.20.0
Maintainer: Lauren McIver
MaintainerEmail: lauren.j.mciver at gmail.com
git_url: https://git.bioconductor.org/packages/Maaslin2
git_branch: RELEASE_3_20
git_last_commit: 1cacd4c
git_last_commit_date: 2024-10-29 10:38:48 -0500 (Tue, 29 Oct 2024)