Package: Maaslin2 Version: 1.20.0 Command: rm -rf Maaslin2.buildbin-libdir && mkdir Maaslin2.buildbin-libdir && /Users/biocbuild/BBS/utils/build-universal.sh Maaslin2_1.20.0.tar.gz /Library/Frameworks/R.framework/Resources/bin/R Maaslin2.buildbin-libdir StartedAt: 2025-02-05 16:27:30 -0500 (Wed, 05 Feb 2025) EndedAt: 2025-02-05 16:27:42 -0500 (Wed, 05 Feb 2025) EllapsedTime: 11.4 seconds RetCode: 0 Status: OK PackageFile: Maaslin2_1.20.0.tgz PackageFileSize: 613.4 KiB