Package: Maaslin2 Version: 1.20.0 Command: /Library/Frameworks/R.framework/Resources/bin/R CMD INSTALL Maaslin2 StartedAt: 2025-02-03 17:10:41 -0500 (Mon, 03 Feb 2025) EndedAt: 2025-02-03 17:10:51 -0500 (Mon, 03 Feb 2025) EllapsedTime: 9.8 seconds RetCode: 0 Status: OK