Package: Maaslin2 Version: 1.20.0 Command: F:\biocbuild\bbs-3.20-bioc\R\bin\R.exe CMD INSTALL Maaslin2 StartedAt: 2025-02-03 16:10:50 -0500 (Mon, 03 Feb 2025) EndedAt: 2025-02-03 16:11:17 -0500 (Mon, 03 Feb 2025) EllapsedTime: 27.2 seconds RetCode: 0 Status: OK