Package: Macarron Version: 1.10.0 Command: /Library/Frameworks/R.framework/Resources/bin/R CMD check --install=check:Macarron.install-out.txt --library=/Library/Frameworks/R.framework/Resources/library --no-vignettes --timings Macarron_1.10.0.tar.gz StartedAt: 2025-02-05 00:21:37 -0500 (Wed, 05 Feb 2025) EndedAt: 2025-02-05 00:34:22 -0500 (Wed, 05 Feb 2025) EllapsedTime: 765.0 seconds RetCode: 1 Status: ERROR CheckDir: Macarron.Rcheck Warnings: NA