Package: Macarron Version: 1.10.0 Command: /Library/Frameworks/R.framework/Resources/bin/R CMD build --keep-empty-dirs --no-resave-data Macarron StartedAt: 2025-02-03 19:58:42 -0500 (Mon, 03 Feb 2025) EndedAt: 2025-02-03 20:09:51 -0500 (Mon, 03 Feb 2025) EllapsedTime: 668.5 seconds RetCode: 0 Status: OK PackageFile: Macarron_1.10.0.tar.gz PackageFileSize: 591.8 KiB