Package: Macarron Version: 1.10.0 Command: F:\biocbuild\bbs-3.20-bioc\R\bin\R.exe CMD check --no-multiarch --install=check:Macarron.install-out.txt --library=F:\biocbuild\bbs-3.20-bioc\R\library --no-vignettes --timings Macarron_1.10.0.tar.gz StartedAt: 2025-02-14 02:49:39 -0500 (Fri, 14 Feb 2025) EndedAt: 2025-02-14 03:13:24 -0500 (Fri, 14 Feb 2025) EllapsedTime: 1424.3 seconds RetCode: 1 Status: ERROR CheckDir: Macarron.Rcheck Warnings: NA