Package: MantelCorr Version: 1.76.0 Command: /Library/Frameworks/R.framework/Resources/bin/R CMD check --install=check:MantelCorr.install-out.txt --library=/Library/Frameworks/R.framework/Resources/library --no-vignettes --timings MantelCorr_1.76.0.tar.gz StartedAt: 2025-02-05 00:29:44 -0500 (Wed, 05 Feb 2025) EndedAt: 2025-02-05 00:30:08 -0500 (Wed, 05 Feb 2025) EllapsedTime: 24.5 seconds RetCode: 0 Status: OK CheckDir: MantelCorr.Rcheck Warnings: 0