Package: MantelCorr Version: 1.76.0 Command: /Library/Frameworks/R.framework/Resources/bin/R CMD check --install=check:MantelCorr.install-out.txt --library=/Library/Frameworks/R.framework/Resources/library --no-vignettes --timings MantelCorr_1.76.0.tar.gz StartedAt: 2024-11-19 23:36:46 -0500 (Tue, 19 Nov 2024) EndedAt: 2024-11-19 23:40:49 -0500 (Tue, 19 Nov 2024) EllapsedTime: 242.9 seconds RetCode: 0 Status: OK CheckDir: MantelCorr.Rcheck Warnings: 0