Package: MantelCorr Version: 1.76.0 Command: /home/biocbuild/R/R/bin/R CMD build --keep-empty-dirs --no-resave-data MantelCorr StartedAt: 2025-02-04 00:38:14 -0000 (Tue, 04 Feb 2025) EndedAt: 2025-02-04 00:38:36 -0000 (Tue, 04 Feb 2025) EllapsedTime: 22.0 seconds RetCode: 0 Status: OK PackageFile: MantelCorr_1.76.0.tar.gz PackageFileSize: 928.2 KiB