Package: MantelCorr Version: 1.76.0 Command: /home/biocbuild/R/R/bin/R CMD check --install=check:MantelCorr.install-out.txt --library=/home/biocbuild/R/R/site-library --no-vignettes --timings MantelCorr_1.76.0.tar.gz StartedAt: 2025-02-04 08:25:23 -0000 (Tue, 04 Feb 2025) EndedAt: 2025-02-04 08:25:48 -0000 (Tue, 04 Feb 2025) EllapsedTime: 24.0 seconds RetCode: 0 Status: OK CheckDir: MantelCorr.Rcheck Warnings: 0