Package: MantelCorr Version: 1.76.0 Command: /home/biocbuild/R/R/bin/R CMD INSTALL MantelCorr StartedAt: 2025-02-03 20:23:29 -0000 (Mon, 03 Feb 2025) EndedAt: 2025-02-03 20:23:54 -0000 (Mon, 03 Feb 2025) EllapsedTime: 25.1 seconds RetCode: 0 Status: OK