Package: MantelCorr Version: 1.76.0 Command: /home/biocbuild/bbs-3.20-bioc/R/bin/R CMD build --keep-empty-dirs --no-resave-data MantelCorr StartedAt: 2024-11-19 19:49:28 -0500 (Tue, 19 Nov 2024) EndedAt: 2024-11-19 19:49:38 -0500 (Tue, 19 Nov 2024) EllapsedTime: 10.0 seconds RetCode: 0 Status: OK PackageFile: MantelCorr_1.76.0.tar.gz PackageFileSize: 937.7 KiB