Package: MatrixQCvis Version: 1.14.0 Command: /Library/Frameworks/R.framework/Resources/bin/R CMD build --keep-empty-dirs --no-resave-data MatrixQCvis StartedAt: 2025-02-04 02:36:26 -0500 (Tue, 04 Feb 2025) EndedAt: 2025-02-04 02:39:29 -0500 (Tue, 04 Feb 2025) EllapsedTime: 183.0 seconds RetCode: 0 Status: OK PackageFile: MatrixQCvis_1.14.0.tar.gz PackageFileSize: 4.768 MiB