Package: MatrixQCvis Version: 1.14.0 Command: /Library/Frameworks/R.framework/Resources/bin/R CMD INSTALL MatrixQCvis StartedAt: 2025-02-03 17:20:19 -0500 (Mon, 03 Feb 2025) EndedAt: 2025-02-03 17:21:04 -0500 (Mon, 03 Feb 2025) EllapsedTime: 45.4 seconds RetCode: 0 Status: OK