Package: MatrixQCvis Version: 1.14.0 Command: /Library/Frameworks/R.framework/Resources/bin/R CMD build --keep-empty-dirs --no-resave-data MatrixQCvis StartedAt: 2024-11-19 17:28:40 -0500 (Tue, 19 Nov 2024) EndedAt: 2024-11-19 17:32:30 -0500 (Tue, 19 Nov 2024) EllapsedTime: 230.4 seconds RetCode: 0 Status: OK PackageFile: MatrixQCvis_1.14.0.tar.gz PackageFileSize: 4.765 MiB