Package: MatrixQCvis Version: 1.14.0 Command: /Library/Frameworks/R.framework/Resources/bin/R CMD check --install=check:MatrixQCvis.install-out.txt --library=/Library/Frameworks/R.framework/Resources/library --no-vignettes --timings MatrixQCvis_1.14.0.tar.gz StartedAt: 2024-11-19 23:40:49 -0500 (Tue, 19 Nov 2024) EndedAt: 2024-11-19 23:48:27 -0500 (Tue, 19 Nov 2024) EllapsedTime: 458.0 seconds RetCode: 0 Status: OK CheckDir: MatrixQCvis.Rcheck Warnings: 0