Package: MatrixQCvis Version: 1.14.0 Command: /home/biocbuild/bbs-3.20-bioc/R/bin/R CMD check --install=check:MatrixQCvis.install-out.txt --library=/home/biocbuild/bbs-3.20-bioc/R/site-library --timings MatrixQCvis_1.14.0.tar.gz StartedAt: 2025-02-03 23:47:59 -0500 (Mon, 03 Feb 2025) EndedAt: 2025-02-03 23:54:20 -0500 (Mon, 03 Feb 2025) EllapsedTime: 381.4 seconds RetCode: 0 Status: OK CheckDir: MatrixQCvis.Rcheck Warnings: 0