Package: MatrixQCvis Version: 1.14.0 Command: rm -rf MatrixQCvis.buildbin-libdir && mkdir MatrixQCvis.buildbin-libdir && F:\biocbuild\bbs-3.20-bioc\R\bin\R.exe CMD INSTALL --build --library=MatrixQCvis.buildbin-libdir MatrixQCvis_1.14.0.tar.gz StartedAt: 2025-02-04 08:51:14 -0500 (Tue, 04 Feb 2025) EndedAt: 2025-02-04 08:52:37 -0500 (Tue, 04 Feb 2025) EllapsedTime: 83.2 seconds RetCode: 0 Status: OK PackageFile: MatrixQCvis_1.14.0.zip PackageFileSize: 4.269 MiB