Package: MatrixQCvis Version: 1.14.0 Command: chmod a+r MatrixQCvis -R && F:\biocbuild\bbs-3.20-bioc\R\bin\R.exe CMD build --keep-empty-dirs --no-resave-data MatrixQCvis StartedAt: 2025-02-03 20:09:01 -0500 (Mon, 03 Feb 2025) EndedAt: 2025-02-03 20:12:45 -0500 (Mon, 03 Feb 2025) EllapsedTime: 224.2 seconds RetCode: 0 Status: OK PackageFile: MatrixQCvis_1.14.0.tar.gz PackageFileSize: 4.02 MiB